BEGIN:VCALENDAR
VERSION:2.0
PRODID:-//ExpressionEngine Easy iCalendar plugin//NONSGML v2.0.1//EN
X-WR-TIMEZONE:America/New_York
X-WR-CALNAME:Upcoming Auctions
BEGIN:VEVENT
UID:161039
DTSTAMP:20260509T110000
DTSTART:20260509T110000
DTEND:20260509T130000
SUMMARY:2026 Breeders of the Carolinas
LOCATION:3230-D Presson Rd. \, Monroe\, NC 28112\, US
DESCRIPTION:53rd Annual Breeders of the Carolinas Sale
URL:https://www.ebharris.com/auctions/detail/bw161039
SEQUENCE:1
END:VEVENT
END:VCALENDAR